BEGIN:VCALENDAR
VERSION:2.0
PRODID:-//北京大学北加州校友会 - ECPv6.15.20//NONSGML v1.0//EN
CALSCALE:GREGORIAN
METHOD:PUBLISH
X-ORIGINAL-URL:https://pkuaanc.org
X-WR-CALDESC:Events for 北京大学北加州校友会
REFRESH-INTERVAL;VALUE=DURATION:PT1H
X-Robots-Tag:noindex
X-PUBLISHED-TTL:PT1H
BEGIN:VTIMEZONE
TZID:America/Los_Angeles
BEGIN:DAYLIGHT
TZOFFSETFROM:-0800
TZOFFSETTO:-0700
TZNAME:PDT
DTSTART:20240310T100000
END:DAYLIGHT
BEGIN:STANDARD
TZOFFSETFROM:-0700
TZOFFSETTO:-0800
TZNAME:PST
DTSTART:20241103T090000
END:STANDARD
BEGIN:DAYLIGHT
TZOFFSETFROM:-0800
TZOFFSETTO:-0700
TZNAME:PDT
DTSTART:20250309T100000
END:DAYLIGHT
BEGIN:STANDARD
TZOFFSETFROM:-0700
TZOFFSETTO:-0800
TZNAME:PST
DTSTART:20251102T090000
END:STANDARD
BEGIN:DAYLIGHT
TZOFFSETFROM:-0800
TZOFFSETTO:-0700
TZNAME:PDT
DTSTART:20260308T100000
END:DAYLIGHT
BEGIN:STANDARD
TZOFFSETFROM:-0700
TZOFFSETTO:-0800
TZNAME:PST
DTSTART:20261101T090000
END:STANDARD
END:VTIMEZONE
BEGIN:VEVENT
DTSTART;TZID=America/Los_Angeles:20251109T090000
DTEND;TZID=America/Los_Angeles:20251109T180000
DTSTAMP:20260424T043843
CREATED:20251104T014533Z
LAST-MODIFIED:20251104T014533Z
UID:4379-1762678800-1762711200@pkuaanc.org
SUMMARY:北京大学创业训练营北美服务站路演赛及创业训练营活动报名
DESCRIPTION:北京大学创业训练营北美服务站路演赛及创业训练营活动报名 \n为服务在北美地区的北大校友创新创业、搭建北大校友北美创业赋能服务平台，北京大学创新创业学院、北京大学校友会联合北京大学创业训练营共同举办北京大学创业训练营北美特训营暨北大创业大讲堂（北美站）等创新创业系列活动，正式启动报名。 \n经过为期两个月的全球征集与评审，从覆盖北美及海外近300报名项目中精选出20个最具创新力与潜力的北大校友及北创营营友创业团队，即将于 2025年11月9日（周日）齐聚斯坦福大学工学院黄仁勋楼（Jen-Hsun Huang Engineering Center），共同参加北大校友创业项目线下路演活动，并角逐北京大学创新创业大赛海外赛区晋级名额。 \n本次活动由北京大学创业训练营北美服务站全程服务，集结北大校友等创业团队、知名投资机构、投资人及创投导师，共同探讨中美创新生态，见证20个优秀创业项目的精彩角逐。 \n活动时间与地点 \n时间：2025年11月9日（星期日） \n9:00 – 18:00 \n地点：Stanford University \nJen-Hsun Huang Engineering Center\, 3rd Floor Mackenzie Room \n475 Via Ortega\, Stanford\, CA 94305 \n  \n活动亮点 \n顶级导师辅导： \n知名投资人、产业及行业专家、北大教授亲自授课指导，分享创业经验。 \n项目实战路演： \n模拟创投大赛路演场景，导师逐一点评，让路演团队直接面对知名投资人、产业及行业专家对接交流。 \n聚焦国际视野： \n聚焦海外市场与跨境创业机会，帮助创业团队更好地定位全球化发展路径。 \n高端人脉对接： \n对接海内外投资机构、产业资源、商业资源，建立长远合作关系。 \n当天日程安排（加州时间） \n9:00-9:30，嘉宾与团队签到 \n9:30-11:00，北大创业大讲堂 \n11:15-12:00，专题讨论 \n12:00-13:00，午餐交流 \n13:00-17:00，北大校友创业项目路演 \n17:00-17:30，评委合议与颁奖 \n17:30-18:00，自由交流与合影留念 \n活动现场提供免费午餐 \n观众报名通道现已开启 \n本次活动将面向北美及海外校友、投资机构、高校师生及创新创业爱好者开放观众席位，欢迎大家积极报名参与，共同见证北大创业力量的全球绽放。 \n报名截止时间：2025年11月8日 \n扫描二维码进入报名系统填写信息，报名成功后将收到确认邮件及入场凭证。 \n\n海外版手机用户扫码报名 \n\n国内版手机用户扫码报名 \n如果扫描以上二维码出现技术问题 \n以上任意一个二维码扫描报名都可以 \n北京大学创业训练营北美服务站自成立以来，持续搭建跨境创新平台，助力北大校友创业者实现 “选拔—培育—资源对接” 的全链条支持。 \n本次北京大学创业训练营北美特训营，不仅是北大资源服务校友创业的一次活动，更是一次融合北大精神与硅谷创新氛围的思想盛会。 \n让我们相聚斯坦福，共探中美创新创业新机遇，见证北大创业力量的全球舞台！ \n联系方式 \n北京大学创业训练营北美服务站\n联系人：Alicia Chen\n邮箱：aliciacc@stanford.edu \n北京大学创业训练营（国内）\n联系人：崔老师\n微信：13910878054\n邮箱：cuizhen@pkucy.com
URL:https://pkuaanc.org/event/%e5%8c%97%e4%ba%ac%e5%a4%a7%e5%ad%a6%e5%88%9b%e4%b8%9a%e8%ae%ad%e7%bb%83%e8%90%a5%e5%8c%97%e7%be%8e%e6%9c%8d%e5%8a%a1%e7%ab%99%e8%b7%af%e6%bc%94%e8%b5%9b%e5%8f%8a%e5%88%9b%e4%b8%9a%e8%ae%ad%e7%bb%83/
END:VEVENT
BEGIN:VEVENT
DTSTART;TZID=America/Los_Angeles:20251120T080000
DTEND;TZID=America/Los_Angeles:20251120T170000
DTSTAMP:20260424T043843
CREATED:20251120T234426Z
LAST-MODIFIED:20251120T234426Z
UID:4410-1763625600-1763658000@pkuaanc.org
SUMMARY:北京大学北加州校友会理事会换届选举结果公示
DESCRIPTION:北京大学北加州校友会理事会负责校友会政策、规章、财务、监督等决定，理事们均由当地校友选举组成，致力于促进校友间联系、推动校友社区发展。 \n北京大学北加州校友会于2025年7月年度BBQ活动中收集了广大北加州校友们的理事选举投票，吕小洲、黄鑫、宋佳益，熊明烨、宋国琼、阙晓燕六位校友获得过半数的支持票，成功续任或当选2025-2028年度北京大学北加州校友会理事，特此公告。 \n理事会于10-11月的理事会议上对新一届理事会岗位进一步进行了投票，决定2025-2026年度由宋国琼校友任代理理事长 (Acting Chairperson)，钱程校友任执委会会长(EC President)，刘向宁和钱程担任副理事长(Vice Chairperson)，徐睿校友任理事会秘书长(Secretary General)，黄鑫校友任首席财务官(Chief Financial Officer)，吕小洲校友任财务总监(Finance Controller)，金璎校友任出纳(Treasurer)。 \n我们也由衷地感谢任期届满的前理事长刘晔校友、前秘书长金晓晗校友， 前理事王启晨校友，张芳玲校友对北加州校友会和校友们的辛勤努力和巨大贡献！
URL:https://pkuaanc.org/event/%e5%8c%97%e4%ba%ac%e5%a4%a7%e5%ad%a6%e5%8c%97%e5%8a%a0%e5%b7%9e%e6%a0%a1%e5%8f%8b%e4%bc%9a%e7%90%86%e4%ba%8b%e4%bc%9a%e6%8d%a2%e5%b1%8a%e9%80%89%e4%b8%be%e7%bb%93%e6%9e%9c%e5%85%ac%e7%a4%ba-2/
END:VEVENT
BEGIN:VEVENT
DTSTART;TZID=America/Los_Angeles:20251127T080000
DTEND;TZID=America/Los_Angeles:20251127T170000
DTSTAMP:20260424T043843
CREATED:20251127T175839Z
LAST-MODIFIED:20251127T175839Z
UID:4422-1764230400-1764262800@pkuaanc.org
SUMMARY:Giving Week: 如何支持北大北加州校友会和北大EAST望远镜项目？
DESCRIPTION:2025 Giving Week \n一年一度的美国企业年终慈善季又到了。各大企业也陆续开始了Giving Weeks。有的企业为了鼓励员工参与到这些慈善活动中来还会发放credits，让员工们捐给自己喜爱的组织和机构。我们如何参与这些活动，如何借此机会支持我们自己的校友会，或者支持北大的亚洲最大通用光学望远镜建设，为母校基础科研添砖加瓦？我们收集了一些信息，希望能帮助到对这些活动不熟悉，不知道可以捐赠给谁，如何操作的校友们。 \n什么是Giving Week？ \n每年感恩节来临之际，美国各大企业都会展开一两周的慈善捐款活动。企业会组织员工志愿活动，发起募捐，并且对员工的捐款进行匹配。一些企业为了鼓励员工参与还会专门发给员工giving credits。 这些慈善周活动已经成为美国企业文化当中的一部分。而“Giving Tuesday”这一天（感恩节后的星期二），更是已成为一个全美性的慈善日，各慈善机构和高校都会号召校友和社会各界人士进行慈善捐助。这已经成为美国社会一个深入人心的传统。 \n作为北大校友，我们也号召大家关注各自公司的这些慈善公益活动，积极投入参与其中。不管是捐出时间还是金钱，都可以为社会带来正能量。这不仅体现了我们北大人的社会责任，也符合我们北大北加州校友会促进中美两国人民和文化交流的宗旨。让我们从小善意开始，点滴汇聚，化为北大人的公益之江河! \n哪些企业有Giving Week活动？如何利用好企业发给员工的giving credits？ \n据了解，各大公司如 Apple\, Amazon， ByteDance\, Google\, Intel\, Microsoft\, Nvidia\, Paypal\, Palo Alto Networks 等都有各自的Employee Giving Program，并且和 Benevity等慈善公益平台合作。以下为我们收集的各公司匹配捐赠额度以及发给每个员工的giving credits额度。 \n \n个人捐赠可否获得税务优惠？ \nBenevity 和各企业内部捐赠平台上推荐的非营利组织大多为 501 (c)(3) organizations，即通常所说的慈善组织（charitable organizations）。向这些组织捐赠都可以获得IRS的税务减免。一般来说，您最多可以扣除调整后总收入（AGI）的 50%，但在某些情况下会有 20% 和 30% 的限制。由于每个人的税务情况不同，我们无法给予任何的税务建议。详情请咨询专业会计师或查询IRS。 \n我有兴趣参与，可是没有捐赠对象，怎么办？ \nBenevity 提供很多合格的非营利组织名单供捐赠人选择。捐赠人可以选择名单内任意一个或者多个自己喜欢的机构和组织进行捐赠。 \n当然我们也热烈欢迎捐赠给北大或者我们北大北加州校友会的意愿。 \n以下为三个和北大相关的捐赠对象： \n1. 支持北京大学北加州校友会（Peking University Alumni Association of Northern California，pkuaanc.org）。过去一年多北大北加州校友会组织了多场活动、服务总人数超千人，包括 \n年度BBQ、扶摇导师计划月度活动、未名论坛等大型活动 \n月度爬山、多校联合相亲等丰富的社交娱乐活动 \n多类文体活动/体育队：排球、网球、乒乓球、皮克球、羽毛球、游泳、桌游、亲子运动会、高尔夫、接力赛、足球等 \n您的捐赠将更好地为各位校友服务，提供更丰富多彩的活动。 \n2. 支持北大牵头建设的亚洲最大通用光学望远镜EAST：通过北京大学教育基金会（美国）(pkuefusa.org）可向Astronomy Program捐款。 \nEAST 项目介绍及募捐倡议书 \nEAST 通用望远镜公众号（二维码如下） \n\n3. 支持北京大学教育基金会（美国） (Peking University Education Foundation USA， pkuefusa. org）支持北大教育和科研。 \n北京大学教育基金会（美国）和北京大学北加州校友会 均为正式注册的501 (c)(3) 非营利组织，可在IRS Pub78 数据库中查询到。现金捐赠均可获得税务减免。 \n如何捐赠给以上三个北大相关的项目？ \nDONATION GUIDE \n  \n搜索非营利组织 \n登陆各自企业内部的捐赠平台，在搜索栏里键入想要支持的非营利组织\nPeking University Alumni Association of Northern California （北京大学北加州校友会）\nPeking University Education Foundation USA 北大教育基金会（美国） \n \nDonate Now \n在找到的非营利组织页面点击“Donate Now” 。如果已经直接在外部捐赠过，可以 “Request A Match” \n \nEAST望远镜项目备注 \n如果捐赠给北大的EAST望远镜项目，请选择Peking University Education Foundation，并请务必在备注栏里写明：Astronomy Program。欢迎咨询校友基金会联系人 Cathy Zhang，微信：Guihan528 \n \n感谢您的关注和捐赠，欢迎转发！
URL:https://pkuaanc.org/event/giving-week-%e5%a6%82%e4%bd%95%e6%94%af%e6%8c%81%e5%8c%97%e5%a4%a7%e5%8c%97%e5%8a%a0%e5%b7%9e%e6%a0%a1%e5%8f%8b%e4%bc%9a%e5%92%8c%e5%8c%97%e5%a4%a7east%e6%9c%9b%e8%bf%9c%e9%95%9c%e9%a1%b9%e7%9b%ae-2/
END:VEVENT
END:VCALENDAR