BEGIN:VCALENDAR
VERSION:2.0
PRODID:-//北京大学北加州校友会 - ECPv6.15.20//NONSGML v1.0//EN
CALSCALE:GREGORIAN
METHOD:PUBLISH
X-ORIGINAL-URL:https://pkuaanc.org
X-WR-CALDESC:Events for 北京大学北加州校友会
REFRESH-INTERVAL;VALUE=DURATION:PT1H
X-Robots-Tag:noindex
X-PUBLISHED-TTL:PT1H
BEGIN:VTIMEZONE
TZID:America/Los_Angeles
BEGIN:DAYLIGHT
TZOFFSETFROM:-0800
TZOFFSETTO:-0700
TZNAME:PDT
DTSTART:20230312T100000
END:DAYLIGHT
BEGIN:STANDARD
TZOFFSETFROM:-0700
TZOFFSETTO:-0800
TZNAME:PST
DTSTART:20231105T090000
END:STANDARD
BEGIN:DAYLIGHT
TZOFFSETFROM:-0800
TZOFFSETTO:-0700
TZNAME:PDT
DTSTART:20240310T100000
END:DAYLIGHT
BEGIN:STANDARD
TZOFFSETFROM:-0700
TZOFFSETTO:-0800
TZNAME:PST
DTSTART:20241103T090000
END:STANDARD
BEGIN:DAYLIGHT
TZOFFSETFROM:-0800
TZOFFSETTO:-0700
TZNAME:PDT
DTSTART:20250309T100000
END:DAYLIGHT
BEGIN:STANDARD
TZOFFSETFROM:-0700
TZOFFSETTO:-0800
TZNAME:PST
DTSTART:20251102T090000
END:STANDARD
END:VTIMEZONE
BEGIN:VEVENT
DTSTART;TZID=America/Los_Angeles:20240426T080000
DTEND;TZID=America/Los_Angeles:20240426T170000
DTSTAMP:20260420T080011
CREATED:20240509T220021Z
LAST-MODIFIED:20240509T220021Z
UID:2050-1714118400-1714150800@pkuaanc.org
SUMMARY:博雅计划Panel第二期 AI x Biotech
DESCRIPTION:四月，我们即将迎来第二场线下专题讨论会——“AI与Biotech的连结”。此次讨论会将深入探讨人工智能如何推动生物制药技术的发展。 \n\n\n\n\n\n\n\n我们非常荣幸邀请到了三位在生物技术领域有着杰出贡献的专家作为我们的讨论嘉宾。届时将通过他们的专业视角和亲身经历，探讨AI和生物科技融合的现状、面临的挑战以及未来的机遇。 \n本次活动为invitation only。我们期待与您一同，通过这次精彩的交流，更深入地探索这两个领域如何擦出火花，推动科技和医疗进步。 \n\n\n\n\n\n\n\n\n\n\n\n\n重磅嘉宾 \n\n\n\n\n\n\n\n\n\n\n\n\n\n\n\n\n \nHongmei Huang \n\n\n来自Roche / Genentech，她在医药研发数码化策略，以及数据管理应用，有多年的经验。 \n\n\n\n\n\n\n\n\n\n\n\n\n\n\n\nShicheng Guo \n\n\n\n来自Arrowhead Pharmaceuticals，团队主要负责挖掘群体遗传学数据对siRNA 药物开发的新靶点开发。 \n\n\n\n\n\n\n\n\n\n\n\n\n\n \nKai Liu \n\n\n\n来自SES AI，致力于人工智能/通用人工智能技术在科学领域的应用，在材料科学、癌症免疫治疗、药物/靶点发现和神经科学方面拥有丰富的经验。
URL:https://pkuaanc.org/event/%e5%8d%9a%e9%9b%85%e8%ae%a1%e5%88%92panel%e7%ac%ac%e4%ba%8c%e6%9c%9f-ai-x-biotech/
END:VEVENT
BEGIN:VEVENT
DTSTART;TZID=America/Los_Angeles:20240428T100000
DTEND;TZID=America/Los_Angeles:20240428T130000
DTSTAMP:20260420T080011
CREATED:20240329T020204Z
LAST-MODIFIED:20240421T061519Z
UID:1812-1714298400-1714309200@pkuaanc.org
SUMMARY:北京大学北加州校友会亲子趣味运动会
DESCRIPTION:校庆将至，北京大学北加州校友会将于4月28日早上10：00 – 下午1：00，在Kevin Moran Park （12415 Scully Ave\, Saratoga\, CA 95070）举办校庆午餐会及第一届亲子趣味运动会，为大家搭建一个校友团聚和亲子互动的平台！ \n \n\n\n如果您正在为周末带孩子去哪里玩发愁，或者想找个适合全家人一起参加的活动，又或者想认识其他家长交流带娃心得，我们的运动会就是您的最佳选择！我们准备了丰富多彩的亲子运动项目，如亲子三脚蛙跳，小脚踩大脚，踩气球等，适合不同年龄段的小朋友，让您与孩子共同体验乐趣，增进亲子关系！我们还准备了各种小朋友最爱的活动，如科学小实验，气球造型，手工艺术等等。中午还有美味的午餐，各种零食，还有蛋糕等待大家享用，而且每位参加的大人和小朋友都将获得丰富的礼品！快来加入我们吧！让我们一起创造属于我们的美好回忆，为校庆添上一抹亲子欢乐的色彩！ \n  \n \n  \n我们欢迎校友或者家属加入志愿者团队，特别欢迎高中或以上校友家属，校友会将为您提供社区服务时间证明。立即行动，成为我们的一员吧！请扫二维码或联系志愿者叶敏婷（WeChatID: mosquito_ye) \n特别鸣谢华美半导体协会赞助科学小实验摊位，以及BerryFun赞助气球摊位。 \n  \n温馨提示： \n  \n场地有限，请大家点read more及早注册。为了保证活动质最，我们将收取小额入场费用（$10/成人，$8/小孩，志愿者免费） \n  \n图示蓝色区域为本次活动的主要场所。活动全程户外，请穿着舒适的运动服装，携带防晒用品。 \n  \n \nDisclaimer \nBy submitting the form\, you understand and agree with the following terms: \n– Peking University Alumni Association of Northern California (PKUAANC) organizes this Event for the benefits of the participants. \n– Please do due diligence during the communication with other participants and make own decision whether to provide personal information to any other participant. \n– Please aware that the participation in the Event involves risk\, including\, but not limited to\, travel\, physical activity\, locales where public health and safety may be at risk. \n– Within the past 14 days have if you\, or anyone you have been in close contact with\, have experienced any symptoms of illness such as fever\, cough\, chills\, loss of sense of smell or taste\, sore throat\, shortness of breath\, or muscle aches & pains\, please do not attend the event. Participants are encouraged to practice hand hygiene and wear face coverings to reduce the risks of exposure to COVID-19. \n– The Alumni Organizations are not responsible for any expense\, loss\, damage\, personal injury (including loss of life\, disability\, or serious harm)\, property damage or theft\, negligence\, or actions (each\, a “Loss”) resulting from or arising in connection with the travel to\, attendance at\, or participation in the Event and any related activities unless said Loss is caused by the sole\, gross negligence of Alumni Organizations. \n 
URL:https://pkuaanc.org/event/%e5%8c%97%e4%ba%ac%e5%a4%a7%e5%ad%a6%e5%8c%97%e5%8a%a0%e5%b7%9e%e6%a0%a1%e5%8f%8b%e4%bc%9a%e4%ba%b2%e5%ad%90%e8%b6%a3%e5%91%b3%e8%bf%90%e5%8a%a8%e4%bc%9a/
LOCATION:Kevin Moran Park\, 12415 Scully Ave\, Saratoga\, 95070
END:VEVENT
BEGIN:VEVENT
DTSTART;TZID=America/Los_Angeles:20240428T140000
DTEND;TZID=America/Los_Angeles:20240428T170000
DTSTAMP:20260420T080011
CREATED:20240418T045349Z
LAST-MODIFIED:20240418T045349Z
UID:1939-1714312800-1714323600@pkuaanc.org
SUMMARY:网球校庆友谊赛
DESCRIPTION:春暖花开，很快又是母校北京大学的生日。为迎接校庆，北加州校友会筹备于4月28日下午举办校友网球友谊赛🎾🎾 \n参赛者将获得订制T恤和精美小礼品，比赛胜出者还有额外的精美奖品送出！目前已经有～40位校友报名参赛🎾🎾啦～还有少量名额。先到先得，赶快报名吧。 \nps:报名成功会有确认邮件拉群，后报名的校友会进waitlist. \n报名截止日期 4月22日 \n另外欢迎报名网球赛志愿者，联系微信:lynnzhpku“ \n 
URL:https://pkuaanc.org/event/%e7%bd%91%e7%90%83%e6%a0%a1%e5%ba%86%e5%8f%8b%e8%b0%8a%e8%b5%9b/
END:VEVENT
END:VCALENDAR