BEGIN:VCALENDAR
VERSION:2.0
PRODID:-//北京大学北加州校友会 - ECPv6.15.20//NONSGML v1.0//EN
CALSCALE:GREGORIAN
METHOD:PUBLISH
X-WR-CALNAME:北京大学北加州校友会
X-ORIGINAL-URL:https://pkuaanc.org
X-WR-CALDESC:Events for 北京大学北加州校友会
REFRESH-INTERVAL;VALUE=DURATION:PT1H
X-Robots-Tag:noindex
X-PUBLISHED-TTL:PT1H
BEGIN:VTIMEZONE
TZID:America/Los_Angeles
BEGIN:DAYLIGHT
TZOFFSETFROM:-0800
TZOFFSETTO:-0700
TZNAME:PDT
DTSTART:20230312T100000
END:DAYLIGHT
BEGIN:STANDARD
TZOFFSETFROM:-0700
TZOFFSETTO:-0800
TZNAME:PST
DTSTART:20231105T090000
END:STANDARD
BEGIN:DAYLIGHT
TZOFFSETFROM:-0800
TZOFFSETTO:-0700
TZNAME:PDT
DTSTART:20240310T100000
END:DAYLIGHT
BEGIN:STANDARD
TZOFFSETFROM:-0700
TZOFFSETTO:-0800
TZNAME:PST
DTSTART:20241103T090000
END:STANDARD
BEGIN:DAYLIGHT
TZOFFSETFROM:-0800
TZOFFSETTO:-0700
TZNAME:PDT
DTSTART:20250309T100000
END:DAYLIGHT
BEGIN:STANDARD
TZOFFSETFROM:-0700
TZOFFSETTO:-0800
TZNAME:PST
DTSTART:20251102T090000
END:STANDARD
END:VTIMEZONE
BEGIN:VEVENT
DTSTART;VALUE=DATE:20240123
DTEND;VALUE=DATE:20240124
DTSTAMP:20260425T115800
CREATED:20240123T194310Z
LAST-MODIFIED:20240123T194310Z
UID:1678-1705968000-1706054399@pkuaanc.org
SUMMARY:欢迎报名2024首届博雅职业发展计划
DESCRIPTION:
URL:https://pkuaanc.org/event/%e6%ac%a2%e8%bf%8e%e6%8a%a5%e5%90%8d2024%e9%a6%96%e5%b1%8a%e5%8d%9a%e9%9b%85%e8%81%8c%e4%b8%9a%e5%8f%91%e5%b1%95%e8%ae%a1%e5%88%92/
END:VEVENT
BEGIN:VEVENT
DTSTART;TZID=America/Los_Angeles:20240130T080000
DTEND;TZID=America/Los_Angeles:20240130T170000
DTSTAMP:20260425T115800
CREATED:20240131T070905Z
LAST-MODIFIED:20240131T070905Z
UID:1702-1706601600-1706634000@pkuaanc.org
SUMMARY:2024博雅计划导师名单更新啦，快来报名吧！
DESCRIPTION:
URL:https://pkuaanc.org/event/2024%e5%8d%9a%e9%9b%85%e8%ae%a1%e5%88%92%e5%af%bc%e5%b8%88%e5%90%8d%e5%8d%95%e6%9b%b4%e6%96%b0%e5%95%a6%ef%bc%8c%e5%bf%ab%e6%9d%a5%e6%8a%a5%e5%90%8d%e5%90%a7%ef%bc%81/
END:VEVENT
BEGIN:VEVENT
DTSTART;TZID=America/Los_Angeles:20240131T080000
DTEND;TZID=America/Los_Angeles:20240131T170000
DTSTAMP:20260425T115800
CREATED:20240131T221335Z
LAST-MODIFIED:20240131T221335Z
UID:1718-1706688000-1706720400@pkuaanc.org
SUMMARY:单身汪/喵的专属福利！浪漫情人节Pick你！
DESCRIPTION:
URL:https://pkuaanc.org/event/%e5%8d%95%e8%ba%ab%e6%b1%aa-%e5%96%b5%e7%9a%84%e4%b8%93%e5%b1%9e%e7%a6%8f%e5%88%a9%ef%bc%81%e6%b5%aa%e6%bc%ab%e6%83%85%e4%ba%ba%e8%8a%82pick%e4%bd%a0%ef%bc%81/
END:VEVENT
END:VCALENDAR