BEGIN:VCALENDAR
VERSION:2.0
PRODID:-//北京大学北加州校友会 - ECPv6.15.20//NONSGML v1.0//EN
CALSCALE:GREGORIAN
METHOD:PUBLISH
X-WR-CALNAME:北京大学北加州校友会
X-ORIGINAL-URL:https://pkuaanc.org
X-WR-CALDESC:Events for 北京大学北加州校友会
REFRESH-INTERVAL;VALUE=DURATION:PT1H
X-Robots-Tag:noindex
X-PUBLISHED-TTL:PT1H
BEGIN:VTIMEZONE
TZID:America/Los_Angeles
BEGIN:DAYLIGHT
TZOFFSETFROM:-0800
TZOFFSETTO:-0700
TZNAME:PDT
DTSTART:20220313T100000
END:DAYLIGHT
BEGIN:STANDARD
TZOFFSETFROM:-0700
TZOFFSETTO:-0800
TZNAME:PST
DTSTART:20221106T090000
END:STANDARD
BEGIN:DAYLIGHT
TZOFFSETFROM:-0800
TZOFFSETTO:-0700
TZNAME:PDT
DTSTART:20230312T100000
END:DAYLIGHT
BEGIN:STANDARD
TZOFFSETFROM:-0700
TZOFFSETTO:-0800
TZNAME:PST
DTSTART:20231105T090000
END:STANDARD
BEGIN:DAYLIGHT
TZOFFSETFROM:-0800
TZOFFSETTO:-0700
TZNAME:PDT
DTSTART:20240310T100000
END:DAYLIGHT
BEGIN:STANDARD
TZOFFSETFROM:-0700
TZOFFSETTO:-0800
TZNAME:PST
DTSTART:20241103T090000
END:STANDARD
END:VTIMEZONE
BEGIN:VEVENT
DTSTART;TZID=America/Los_Angeles:20231110T080000
DTEND;TZID=America/Los_Angeles:20231110T170000
DTSTAMP:20260423T105931
CREATED:20231110T162743Z
LAST-MODIFIED:20231110T162743Z
UID:1525-1699603200-1699635600@pkuaanc.org
SUMMARY:Giving Week: 如何支持北大北加州校友会和北大EAST望远镜项目？
DESCRIPTION:一年一度的美国企业年终慈善季又到了。各大企业也陆续开始了Giving Weeks。有的企业为了鼓励员工参与到这些慈善活动中来还会发放credits，让员工们捐给自己喜爱的组织和机构。我们如何参与这些活动，如何借此机会支持我们自己的校友会，或者支持北大的亚洲最大通用光学望远镜建设，为母校基础科研添砖加瓦？我们收集了一些信息，希望能帮助到对这些活动不熟悉，不知道可以捐赠给谁，如何操作的校友们。\n\n\n\n\n\n\n\n\n\n\n\n\n\n\n\n\n什么是Giving Week？ \n\n\n\n\n\n\n每年感恩节来临之际，美国各大企业都会展开一两周的慈善捐款活动。企业会组织员工志愿活动，发起募捐，并且对员工的捐款进行匹配。一些企业为了鼓励员工参与还会专门发给员工giving credits。  这些慈善周活动已经成为美国企业文化当中的一部分。而“Giving Tuesday”这一天（感恩节后的星期二），更是已成为一个全美性的慈善日，各慈善机构和高校都会号召校友和社会各界人士进行慈善捐助。这已经成为美国社会一个深入人心的传统。 \n作为北大校友，我们也号召大家关注各自公司的这些慈善公益活动，积极投入参与其中。不管是捐出时间还是金钱，都可以为社会带来正能量。这不仅体现了我们北大人的社会责任，也符合我们北大北加州校友会促进中美两国人民和文化交流的宗旨。让我们从小善意开始，点滴汇聚，化为北大人的公益之江河! \n\n\n\n\n\n\n\n\n哪些企业有Giving Week活动？如何利用好企业发给员工的giving credits？ \n\n\n\n\n\n\n\n\n\n\n\n\n\n\n\n\n\n\n\n\n\n\n\n\n\n\n\n\n\n\n\n\n\n\n\n\n\n\n\n\n\n\n\n\n\n\n\n\n\n\n\n\n\n\n\n\n据了解，各大公司如 Apple\, Amazon， ByteDance\, Google\, Intel\, Microsoft\, Nvidia\, Paypal\, Palo Alto Networks 等都有各自的Employee Giving Program，并且和 Benevity等慈善公益平台合作。以下为我们收集的各公司匹配捐赠额度以及发给每个员工的giving credits额度。 \n\n\n\n\n\n\n\n\n\n\n\n\n\n\n个人捐赠可否获得税务优惠？ \n\n\n\n\n\n\n\n\n\n\n\n\n\n\n\n\n\n\n\n\n\n\n\n\n\n\n\n\n\n\n\n\n\n\n\n\n\n\n\n\n\n\n\n\n\n\n\n\n\n\n\n\n\n\n\nBenevity 和各企业内部捐赠平台上推荐的非营利组织大多为 501 (c)(3) organizations，即通常所说的慈善组织（charitable organizations）。向这些组织捐赠都可以获得IRS的税务减免。一般来说，您最多可以扣除调整后总收入（AGI）的 50%，但在某些情况下会有 20% 和 30% 的限制。由于每个人的税务情况不同，我们无法给予任何的税务建议。详情请咨询专业会计师或查询IRS。 \n\n\n\n\n\n\n\n\n\n\n\n我有兴趣参与，可是没有捐赠对象，怎么办？ \n\n\n\n\n\n\n\n\n\n\n\n\n\n\n\n\n\n\n\n\n\n\n\n\n\n\n\n\n\n\n\n\n\n\n\n\n\n\n\n\n\n\n\n\n\n\n\n\n\n\n\n\n\n\n\nBenevity 提供很多合格的非营利组织名单供捐赠人选择。捐赠人可以选择名单内任意一个或者多个自己喜欢的机构和组织进行捐赠。 \n当然我们也热烈欢迎捐赠给北大或者我们北大北加州校友会的意愿。 \n以下为三个和北大相关的捐赠对象： \n1. 支持北京大学北加州校友会（Peking University Alumni Association of Northern California，pkuaanc.org）。过去一年北大北加州校友会组织了60余场小活动、4场大型活动、组织了8类体育运动队，服务总人数超千人。您的捐赠将更好地为各位校友服务，提供更丰富多彩的活动。 \n2. 支持北大牵头建设的亚洲最大通用光学望远镜EAST：通过北京大学教育基金会（美国）(pkuefusa.org）可向Astronomy Program捐款。 \nEAST 项目介绍及募捐倡议书 \nEAST 通用望远镜公众号（二维码如下） \n \n3. 支持北京大学教育基金会（美国） (Peking University Education Foundation USA， pkuefusa. org）支持北大教育和科研。 \n北京大学教育基金会（美国）和北京大学北加州校友会 均为正式注册的501 (c)(3) 非营利组织，可在IRS Pub78 数据库中查询到。现金捐赠均可获得税务减免。 \n\n\n\n\n\n\n\n\n\n\n如何捐赠给以上三个北大相关的项目？ \n\n\n\n\n\n\n\n\n\n\n\n\n\n\n\n\n\n\n\n\n\n\n\n\n\n\n\n\n\n\n\n\n\n\n\n\n\n\n\n\n\n\n\n\n\n\n\n\n\n\n\n\n\n\n\n\n1. 登陆各自企业内部的捐赠平台。使用Benevity平台的企业可在上面表格中找到捐赠网址。 \n\n2. 在搜索栏里键入想要支持的非营利组织（附图1） ： \nPeking University Alumni Association of Northern California （北大北加州校友会） \nPeking University Education Foundation USA （美国北大教育基金会(美国）） \n3. 在找到的非营利组织页面点击“Donate Now” （附图2）。如果已经直接在外部捐赠过，可以 “Request A Match”。（附图3） \n4. 如果捐赠给北大的EAST望远镜项目，请选择Peking University Education Foundation，并请务必在备注栏里写明：Astronomy Program （附图4） \n5. 欢迎咨询校友基金会联系人 Cathy Zhang，微信：Guihan528 \n\n\n\n\n\n\n\n\n\n\n\n\n\n\n\n\n\n\n\n\n\n\n\n\n\n\n​
URL:https://pkuaanc.org/event/giving-week-%e5%a6%82%e4%bd%95%e6%94%af%e6%8c%81%e5%8c%97%e5%a4%a7%e5%8c%97%e5%8a%a0%e5%b7%9e%e6%a0%a1%e5%8f%8b%e4%bc%9a%e5%92%8c%e5%8c%97%e5%a4%a7east%e6%9c%9b%e8%bf%9c%e9%95%9c%e9%a1%b9%e7%9b%ae/
END:VEVENT
END:VCALENDAR