BEGIN:VCALENDAR
VERSION:2.0
PRODID:-//北京大学北加州校友会 - ECPv6.15.20//NONSGML v1.0//EN
CALSCALE:GREGORIAN
METHOD:PUBLISH
X-WR-CALNAME:北京大学北加州校友会
X-ORIGINAL-URL:https://pkuaanc.org
X-WR-CALDESC:Events for 北京大学北加州校友会
REFRESH-INTERVAL;VALUE=DURATION:PT1H
X-Robots-Tag:noindex
X-PUBLISHED-TTL:PT1H
BEGIN:VTIMEZONE
TZID:America/Los_Angeles
BEGIN:DAYLIGHT
TZOFFSETFROM:-0800
TZOFFSETTO:-0700
TZNAME:PDT
DTSTART:20230312T100000
END:DAYLIGHT
BEGIN:STANDARD
TZOFFSETFROM:-0700
TZOFFSETTO:-0800
TZNAME:PST
DTSTART:20231105T090000
END:STANDARD
BEGIN:DAYLIGHT
TZOFFSETFROM:-0800
TZOFFSETTO:-0700
TZNAME:PDT
DTSTART:20240310T100000
END:DAYLIGHT
BEGIN:STANDARD
TZOFFSETFROM:-0700
TZOFFSETTO:-0800
TZNAME:PST
DTSTART:20241103T090000
END:STANDARD
BEGIN:DAYLIGHT
TZOFFSETFROM:-0800
TZOFFSETTO:-0700
TZNAME:PDT
DTSTART:20250309T100000
END:DAYLIGHT
BEGIN:STANDARD
TZOFFSETFROM:-0700
TZOFFSETTO:-0800
TZNAME:PST
DTSTART:20251102T090000
END:STANDARD
END:VTIMEZONE
BEGIN:VEVENT
DTSTART;TZID=America/Los_Angeles:20240804T150000
DTEND;TZID=America/Los_Angeles:20240804T200000
DTSTAMP:20260422T025017
CREATED:20240716T150659Z
LAST-MODIFIED:20240801T040005Z
UID:2599-1722783600-1722801600@pkuaanc.org
SUMMARY:北京大学北加州校友会夏季特别活动 ：姜国华、常劲与北加校友见面畅谈 ——价值投资在中国的实践
DESCRIPTION:                                 \n炎炎夏日，北加州校友会迎来了两位重量级贵宾——北京大学党委副书记、光华管理学院会计学姜国华教授，和喜马拉雅资本（Himalaya Capital）执行董事兼首席运营官常劲师兄。本次见面会谈将在8月4日下午3点到5点举行，诚邀各位校友踊跃参与。 \n说起姜书记和常师兄的缘分，就不得不提到《价值投资》这门课程。这门课程可不仅只是讲座和问答，今年在常师兄的带领下，十余名优秀学子受邀前往美国奥马哈，参与了一年一度的伯克希尔·哈撒韦股东大会。这一盛会由投资大师沃伦·巴菲特主持，因此又被称为“巴菲特股东大会”，是全球投资者瞩目的焦点。 \n“价值投资”是由北京大学光华管理学院开设、姜国华教授主持的一门创新型课程，由喜马拉雅资本（Himalaya Capital）支持，喜马拉雅资本执行董事兼首席运营官常劲先生参与授课，面向全校同学开放，并允许业界人士线上选修。 \n该课程于2015年秋季开设，在过往为期9年的10期课程中，累计接纳2000余名学员，其中在校学生500余人，业界学员1500余人。姜国华教授、常劲先生将会在课上讲授价值投资的理念与理论。同时，本课程还将邀请国内外遵循价值投资理念的投资人与企业家进行主题演讲，并开展与价值投资主题相关的经济、管理、产业以及公司的分析与研讨。此外，选课在校生学生需结合价值投资的理论方法，以小组形式完成对特定公司的价值投资研究。 \n8月4日下午，敬请各位校友现场聆听一场货真价实的高质量分享。 \n活动地点： \nMagStone Law \n415 S Murphy Ave\, Sunnyvale\, CA 94086 \n讲座时间：3:00-5:00pm \n参与人数: 50 \n讲座票价：免费 \n晚餐价格：20$
URL:https://pkuaanc.org/event/2024spevent/
END:VEVENT
END:VCALENDAR