BEGIN:VCALENDAR
VERSION:2.0
PRODID:-//北京大学北加州校友会 - ECPv6.15.20//NONSGML v1.0//EN
CALSCALE:GREGORIAN
METHOD:PUBLISH
X-ORIGINAL-URL:https://pkuaanc.org
X-WR-CALDESC:Events for 北京大学北加州校友会
REFRESH-INTERVAL;VALUE=DURATION:PT1H
X-Robots-Tag:noindex
X-PUBLISHED-TTL:PT1H
BEGIN:VTIMEZONE
TZID:America/Los_Angeles
BEGIN:DAYLIGHT
TZOFFSETFROM:-0800
TZOFFSETTO:-0700
TZNAME:PDT
DTSTART:20230312T100000
END:DAYLIGHT
BEGIN:STANDARD
TZOFFSETFROM:-0700
TZOFFSETTO:-0800
TZNAME:PST
DTSTART:20231105T090000
END:STANDARD
BEGIN:DAYLIGHT
TZOFFSETFROM:-0800
TZOFFSETTO:-0700
TZNAME:PDT
DTSTART:20240310T100000
END:DAYLIGHT
BEGIN:STANDARD
TZOFFSETFROM:-0700
TZOFFSETTO:-0800
TZNAME:PST
DTSTART:20241103T090000
END:STANDARD
BEGIN:DAYLIGHT
TZOFFSETFROM:-0800
TZOFFSETTO:-0700
TZNAME:PDT
DTSTART:20250309T100000
END:DAYLIGHT
BEGIN:STANDARD
TZOFFSETFROM:-0700
TZOFFSETTO:-0800
TZNAME:PST
DTSTART:20251102T090000
END:STANDARD
END:VTIMEZONE
BEGIN:VEVENT
DTSTART;VALUE=DATE:20240721
DTEND;VALUE=DATE:20240722
DTSTAMP:20260420T083045
CREATED:20240616T190819Z
LAST-MODIFIED:20240716T153042Z
UID:2124-1721520000-1721606399@pkuaanc.org
SUMMARY:2024年度BBQ盛会购票开启及志愿者招募
DESCRIPTION:亲爱的校友们，期待已久的校友会年度烧烤活动即将在7月21日盛大开启！这个夏天，让我们与校友共聚， 享受美食、美酒和美好的时光。北大北加州校友会诚邀您和您的家人共同相聚，一同参加这个令人期待的夏日盛会！ \n    \n  \n活动详情 \n日期：2023年7月21日 \n地点：Mountain View Cuesta Park \n购票方式：点击网页底部购票链接 \n早鸟票：$20/人 \n普通票：$25/人 \n现场票：$30/人 \n65岁以上老人及15岁以下儿童免费，但请购票时登记以方便统计人数 \n  \n就在这个夏日，让我们大口吃肉，畅所欲言，举杯同庆，共享友情！您还在等什么？快来报名吧！ \n\n\n\n\n\n\n\n志愿者招募\n\n\n\n\n\n欢迎各位热心校友加入志愿者小分队，支持本次BBQ盛会。志愿者本人可以免费参加这次活动，还可以认识更多的志愿者和校友会活动组织者朋友。长按以下二维码报名志愿者。报名请联系：明烨 (微信: Mingye-X)\n\n\n\n\nDisclaimerBy submitting the form\, you understand and agree with the following terms: \n– Peking University Alumni Association of Northern California (PKUAANC) organizes this Event for the benefits of the participants and the Alumni Organizations will not be responsible for the accuracy and trueness of the background and information of other participants. \n– Please aware that the participation in the Event involves risk\, including\, but not limited to\, travel\, physical activity\, locales where public health and safety may be at risk. \n– Within the past 14 days have if you\, or anyone you have been in close contact with\, have experienced any symptoms of illness such as fever\, cough\, chills\, loss of sense of smell or taste\, sore throat\, shortness of breath\, or muscle aches & pains\, please do not attend the event. Participants are encouraged to practice hand hygiene and wear face coverings to reduce the risks of exposure to COVID-19. \n– The Alumni Organizations are not responsible for any expense\, loss\, damage\, personal injury (including loss of life\, disability\, or serious harm)\, property damage or theft\, negligence\, or actions (each\, a “Loss”) resulting from or arising in connection with the travel to\, attendance at\, or participation in the Event and any related activities unless said Loss is caused by the sole\, gross negligence of Alumni Organizations.
URL:https://pkuaanc.org/event/2024bbq/
END:VEVENT
END:VCALENDAR