BEGIN:VCALENDAR
VERSION:2.0
PRODID:-//北京大学北加州校友会 - ECPv6.15.20//NONSGML v1.0//EN
CALSCALE:GREGORIAN
METHOD:PUBLISH
X-WR-CALNAME:北京大学北加州校友会
X-ORIGINAL-URL:https://pkuaanc.org
X-WR-CALDESC:Events for 北京大学北加州校友会
REFRESH-INTERVAL;VALUE=DURATION:PT1H
X-Robots-Tag:noindex
X-PUBLISHED-TTL:PT1H
BEGIN:VTIMEZONE
TZID:America/Los_Angeles
BEGIN:DAYLIGHT
TZOFFSETFROM:-0800
TZOFFSETTO:-0700
TZNAME:PDT
DTSTART:20230312T100000
END:DAYLIGHT
BEGIN:STANDARD
TZOFFSETFROM:-0700
TZOFFSETTO:-0800
TZNAME:PST
DTSTART:20231105T090000
END:STANDARD
BEGIN:DAYLIGHT
TZOFFSETFROM:-0800
TZOFFSETTO:-0700
TZNAME:PDT
DTSTART:20240310T100000
END:DAYLIGHT
BEGIN:STANDARD
TZOFFSETFROM:-0700
TZOFFSETTO:-0800
TZNAME:PST
DTSTART:20241103T090000
END:STANDARD
BEGIN:DAYLIGHT
TZOFFSETFROM:-0800
TZOFFSETTO:-0700
TZNAME:PDT
DTSTART:20250309T100000
END:DAYLIGHT
BEGIN:STANDARD
TZOFFSETFROM:-0700
TZOFFSETTO:-0800
TZNAME:PST
DTSTART:20251102T090000
END:STANDARD
END:VTIMEZONE
BEGIN:VEVENT
DTSTART;TZID=America/Los_Angeles:20240308T173000
DTEND;TZID=America/Los_Angeles:20240308T183000
DTSTAMP:20260420T115533
CREATED:20240301T183738Z
LAST-MODIFIED:20240301T183738Z
UID:1776-1709919000-1709922600@pkuaanc.org
SUMMARY:博雅计划｜硅谷高管座谈会·Women Leadership
DESCRIPTION:硅谷高管座谈 – 女性领导力专场 \n \n博雅计划·共赢未来 \n在翘首企盼中，博雅计划迎来了第一次月度集体活动——高管座谈会·女性领导力专场。今年女神节，我们邀请到硅谷顶尖的华人高管Yun Freund，Xiaodan Wang，Jiayin Zhang，Sarah Pu导师们分享她们的职场故事，从不同角度交流职场心得，激发女性领导力，促进亚裔领导者团队管理等。 \n高管论坛 \n活动细则 \n时间：3月8日 5:30-6:30pm\n地点：Q Bay Center\, 160 E Tasman Dr\, San Jose\, CA 95134 \n线上：Zoom\n报名方式：在校友会微信公众号平台，长按海报微信扫码报名 \n注：由于线下场地限制我们将邮件确认报名，请收到确认后再来以保证有位置，谢谢合作！
URL:https://pkuaanc.org/event/%e5%8d%9a%e9%9b%85%e8%ae%a1%e5%88%92%ef%bd%9c%e7%a1%85%e8%b0%b7%e9%ab%98%e7%ae%a1%e5%ba%a7%e8%b0%88%e4%bc%9a%c2%b7women-leadership/
END:VEVENT
END:VCALENDAR