BEGIN:VCALENDAR
VERSION:2.0
PRODID:-//北京大学北加州校友会 - ECPv6.15.20//NONSGML v1.0//EN
CALSCALE:GREGORIAN
METHOD:PUBLISH
X-ORIGINAL-URL:https://pkuaanc.org
X-WR-CALDESC:Events for 北京大学北加州校友会
REFRESH-INTERVAL;VALUE=DURATION:PT1H
X-Robots-Tag:noindex
X-PUBLISHED-TTL:PT1H
BEGIN:VTIMEZONE
TZID:America/Los_Angeles
BEGIN:DAYLIGHT
TZOFFSETFROM:-0800
TZOFFSETTO:-0700
TZNAME:PDT
DTSTART:20220313T100000
END:DAYLIGHT
BEGIN:STANDARD
TZOFFSETFROM:-0700
TZOFFSETTO:-0800
TZNAME:PST
DTSTART:20221106T090000
END:STANDARD
BEGIN:DAYLIGHT
TZOFFSETFROM:-0800
TZOFFSETTO:-0700
TZNAME:PDT
DTSTART:20230312T100000
END:DAYLIGHT
BEGIN:STANDARD
TZOFFSETFROM:-0700
TZOFFSETTO:-0800
TZNAME:PST
DTSTART:20231105T090000
END:STANDARD
BEGIN:DAYLIGHT
TZOFFSETFROM:-0800
TZOFFSETTO:-0700
TZNAME:PDT
DTSTART:20240310T100000
END:DAYLIGHT
BEGIN:STANDARD
TZOFFSETFROM:-0700
TZOFFSETTO:-0800
TZNAME:PST
DTSTART:20241103T090000
END:STANDARD
END:VTIMEZONE
BEGIN:VEVENT
DTSTART;VALUE=DATE:20231221
DTEND;VALUE=DATE:20231222
DTSTAMP:20260425T092426
CREATED:20231221T105941Z
LAST-MODIFIED:20231221T105958Z
UID:1606-1703116800-1703203199@pkuaanc.org
SUMMARY:2023中美乒乓外交52周年湾区一行回顾
DESCRIPTION:2023年湾区圣诞节前奏曲里的关键词无疑是“乒乓外交”。而对于湾区球友，北大校友和北大之友而言，世界冠军刘伟丁宁携北大乒乓球队由北大副校长方方带团来旧金山参加相关活动的消息更是刷屏的存在。 \n2023年12月15号上午，TTA 迎来了隆重的乒乓外交52周年庆典。到场的除了北大代表团，还有多位重量级嘉宾包括张建敏总领事和夫人郑心、加州运营署署长黄思敏、美国乒乓球协会主席查尔和首席执行官沈伟妮\, 以及“乒乓外交”亲历者史维利斯夫妇。将近300名美地方各界人士、乒乓球爱好者齐聚一堂，共享盛会！这里自然少不了我们血浓于水的娘家人：北大北加州校友会及北大湾区乒乓球队派出了粉丝团与北大赴美代表团亲切互动。 \n\n湾区乒乓球队队长阙晓燕还代表湾区球队给总领事赠送了纪念品。 \n \n席间，中美嘉宾混合队进行了友谊赛。与会者既目睹了刘伟丁宁的冠军风采，也见识了旧金山总领事的高超球艺。 \n \n北大副校长方方西装革履，潇洒挥拍，更是一道别样的风景。北大队员和美国国家队队员的比赛精彩纷呈，妙招迭起，观众掌声雷动。 \n \n下午，校友会与湾区乒乓球队给北大校队精心安排了与斯坦福大学乒乓球队的联谊活动。队员们沐浴在加州灿烂的阳光里，与陪同的北大校友和斯坦福学生一起游览建筑风格古典独特的斯坦福校园，并在胡佛塔下绿草坪间合影留念。 \n\n \n作为精彩紧凑的一日行程的压轴戏，晚上半岛海鲜餐厅的夜宴不负众望。北大代表团与湾区校友代表零距离接触，气氛既温馨又热烈。湾区校友代表主要来自北加校友会与湾区乒乓队，就职于硅谷各个高科技公司包括Apple\, Meta\, Google\, Tiktok\, Stripe\, FutureWei \, Lam Research\, Palo Alto Networks等，更有基金管理人和独立制片人。他们背景各异，当年北大入校时间从1964到2008不等，可以说是跨世纪多样化代表团队。席间，北大教育基金会副秘书长王勇，北京大学体教部主任钱俊伟，北京大学宣传部郭雅颂，北京大学体教部教授刘伟，北京大学体教部讲师丁宁，北京大学国际合作部成思思，北大北加州校友会会长宋国琼，湾区乒乓球队队长阙晓燕相继发言，给众人揭秘这次活动背后大大小小的生动故事和真诚付出。大家同时展望未来，积极拓宽思路，就如何传承“乒乓外交”的精神，让乒乓走入国际校园，成为世界高校文化教育交流合作的新平台进行了深度讨论。 \n晚宴华章之一当数施浩师兄代表湾区乒乓球队给北大代表团赠送了自己亲手设计制作的杯子以及多功能球罐，充分展示了硅谷工程师的艺术情怀，是技术和艺术结合的完美典范。 \n湾区乒乓球队队长阙晓燕还代表湾区球队给总领事赠送了纪念品。 \n\n北大队也贴心地为湾区代表们准备了有冠军签名的乒乓外交纪念球拍，让大家如愿以偿。 \n\n席上话题多彩多姿，从北大基金会现状和走向到登顶珠穆朗玛峰的传奇及心得，从北大跑操作弊轶闻到四六级英语考试趣事，从球队年轻师弟师妹们的职业规划到未名湖边的高尔夫练球场，从心理学在中国的认知提升到美国高校录取的不二法门等等，不拘一格妙趣横生。作为Lam Research 刻蚀部门第一个院士并坐拥300多个专利的石洪校友给大家带来了他的创业史，丁宁分享了她从黑龙江到北京的乒乓及求学之旅，而刘伟教授则意兴踹飞的回顾了她至今抵达的两个十六年里程碑。大家相谈甚欢，只恨时间过得太快。酒过三巡，方才在廊外大合影惜别。北大乒乓球队52周年“乒乓外交”湾区之行完美收官。 \n\n撰稿：Shirley
URL:https://pkuaanc.org/event/2023%e4%b8%ad%e7%be%8e%e4%b9%92%e4%b9%93%e5%a4%96%e4%ba%a452%e5%91%a8%e5%b9%b4%e6%b9%be%e5%8c%ba%e4%b8%80%e8%a1%8c%e5%9b%9e%e9%a1%be/
END:VEVENT
END:VCALENDAR