BEGIN:VCALENDAR
VERSION:2.0
PRODID:-//北京大学北加州校友会 - ECPv6.15.20//NONSGML v1.0//EN
CALSCALE:GREGORIAN
METHOD:PUBLISH
X-ORIGINAL-URL:https://pkuaanc.org
X-WR-CALDESC:Events for 北京大学北加州校友会
REFRESH-INTERVAL;VALUE=DURATION:PT1H
X-Robots-Tag:noindex
X-PUBLISHED-TTL:PT1H
BEGIN:VTIMEZONE
TZID:America/Los_Angeles
BEGIN:DAYLIGHT
TZOFFSETFROM:-0800
TZOFFSETTO:-0700
TZNAME:PDT
DTSTART:20220313T100000
END:DAYLIGHT
BEGIN:STANDARD
TZOFFSETFROM:-0700
TZOFFSETTO:-0800
TZNAME:PST
DTSTART:20221106T090000
END:STANDARD
BEGIN:DAYLIGHT
TZOFFSETFROM:-0800
TZOFFSETTO:-0700
TZNAME:PDT
DTSTART:20230312T100000
END:DAYLIGHT
BEGIN:STANDARD
TZOFFSETFROM:-0700
TZOFFSETTO:-0800
TZNAME:PST
DTSTART:20231105T090000
END:STANDARD
BEGIN:DAYLIGHT
TZOFFSETFROM:-0800
TZOFFSETTO:-0700
TZNAME:PDT
DTSTART:20240310T100000
END:DAYLIGHT
BEGIN:STANDARD
TZOFFSETFROM:-0700
TZOFFSETTO:-0800
TZNAME:PST
DTSTART:20241103T090000
END:STANDARD
END:VTIMEZONE
BEGIN:VEVENT
DTSTART;TZID=America/Los_Angeles:20230513T170000
DTEND;TZID=America/Los_Angeles:20230513T183000
DTSTAMP:20260422T081830
CREATED:20230513T055414Z
LAST-MODIFIED:20230513T055414Z
UID:1301-1683997200-1684002600@pkuaanc.org
SUMMARY:天文系列讲座之 观星神器
DESCRIPTION:每当我们仰望星空，有没有好奇过如何拍摄出令人惊叹的星空大片？ \n在自家后院能否拍摄到中国空间站？ \n摄影爱好者们都有哪些观星神器？ \n它们和专业望远镜的区别又是什么？ \n中国、美国有哪些著名望远镜可参观？ \n北大牵头的亚洲最大光学望远镜EAST有何进展？ \n欢迎来听天文讲座系列之 观星神器。我们非常荣幸请到了北大天文系校友、科普大V 刘博洋博士来为您一一解答，讲述天文摄影和观测背后的故事。北大天文系主任吴学兵教授也将空降直播，一起科普和解答疑问。 \n主讲人 \n吴学兵教授 \n北京大学物理学院天文学系教授、系主任 \n现任中国天文学会副理事长 \nResearch in Astronomy and Astrophysics 杂志编委 \n国际天文学联合会(IAU)会员 \n刘博洋 \n毕业于北大物理学院天文系 \n西澳大学国际射电天文研究中心天体物理博士 \n中国科普作家协会会员 \n火箭摄影师，星空摄影师 \nEAST望远镜筹备组成员 \n天文八卦学家、Up主 \n活动时间 (请注意，以下是三个时区的同一时间）:  \n美西时间5/13周六下午5:00-6:30  \n美东时间5/13周六下午8:00-9:30 \n北京时间5/14周日上午8:00-9:30 \n活动地点: \n线上，可通过扫描下方二维码或点击文末read more前往Eventbrite网站报名，报名成功后将收到邮件通知及线上会议链接 \n也可直接扫码参加zoom会议： \n如果想对北大天文学系发起的6-8米成长型通用光学望远镜项目有更多了解，请您扫描下方二维码
URL:https://pkuaanc.org/event/%e5%a4%a9%e6%96%87%e7%b3%bb%e5%88%97%e8%ae%b2%e5%ba%a7%e4%b9%8b-%e8%a7%82%e6%98%9f%e7%a5%9e%e5%99%a8/
LOCATION:Online
ATTACH;FMTTYPE=image/jpeg:https://pkuaanc.org/wp-content/uploads/2023/05/https___cdn.evbuc_.com_images_507905689_35850209014_1_original.jpeg
END:VEVENT
END:VCALENDAR