BEGIN:VCALENDAR
VERSION:2.0
PRODID:-//北京大学北加州校友会 - ECPv6.15.20//NONSGML v1.0//EN
CALSCALE:GREGORIAN
METHOD:PUBLISH
X-ORIGINAL-URL:https://pkuaanc.org
X-WR-CALDESC:Events for 北京大学北加州校友会
REFRESH-INTERVAL;VALUE=DURATION:PT1H
X-Robots-Tag:noindex
X-PUBLISHED-TTL:PT1H
BEGIN:VTIMEZONE
TZID:America/Los_Angeles
BEGIN:DAYLIGHT
TZOFFSETFROM:-0800
TZOFFSETTO:-0700
TZNAME:PDT
DTSTART:20220313T100000
END:DAYLIGHT
BEGIN:STANDARD
TZOFFSETFROM:-0700
TZOFFSETTO:-0800
TZNAME:PST
DTSTART:20221106T090000
END:STANDARD
BEGIN:DAYLIGHT
TZOFFSETFROM:-0800
TZOFFSETTO:-0700
TZNAME:PDT
DTSTART:20230312T100000
END:DAYLIGHT
BEGIN:STANDARD
TZOFFSETFROM:-0700
TZOFFSETTO:-0800
TZNAME:PST
DTSTART:20231105T090000
END:STANDARD
BEGIN:DAYLIGHT
TZOFFSETFROM:-0800
TZOFFSETTO:-0700
TZNAME:PDT
DTSTART:20240310T100000
END:DAYLIGHT
BEGIN:STANDARD
TZOFFSETFROM:-0700
TZOFFSETTO:-0800
TZNAME:PST
DTSTART:20241103T090000
END:STANDARD
END:VTIMEZONE
BEGIN:VEVENT
DTSTART;TZID=America/Los_Angeles:20230129T133000
DTEND;TZID=America/Los_Angeles:20230129T153000
DTSTAMP:20260421T045027
CREATED:20230122T065212Z
LAST-MODIFIED:20230122T065315Z
UID:1181-1674999000-1675006200@pkuaanc.org
SUMMARY:职业发展讲座：Proactive Career Management in a Rapidly Changing World
DESCRIPTION:北京大学北加州校友会职业发展讲座： \n\n\nProactive Career Management in a Rapidly Changing World\n\n\n讲座简介\n\n\n\n\n\n\nThe job market is tough\, especially now.PKU career development group would like to invite you to learn more about career management in a constantly evolving industry and rapidly changing world. Our alumna\, Dr. Elizabeth Xu\, a public company board member\, CEO of A2C Academy\, and Chairman of California Science and Technology University\, will share her experiences and best practices for career management and her coaching advice for getting back to the career. \n就业市场不断发展变化，当下尤其严峻。 \n北大北加州校友会职业发展部诚邀您参加我们职业发展俱乐部2023年第一次面对面的职业指导，了解更多关于职业管理的知识。我们邀请了校友 Elizabeth Xu 徐玲博士带来第一次分享：Proactive Career Management in a Rapidly Changing World。 \n徐玲博士是上市公司董事会成员，A2C Academy 首席执行官和加州科技大学董事长。她将分享她在职业生涯管理方面的经验和最佳实践，以及她对重返职业生涯的指导建议。讲座结束后，徐玲博士将通过问答的形式深入讨论您的问题。 \n\n\n\n\n\n\n\n\n主讲人：徐玲博士\n\n\n\n\n\n\nElizabeth is a public company board member and the CEO of A2C Academy and Chairman of California Science and Technology University. She has served as two CTO positions of billion-dollar revenue companies: CP Group and BMC Software. She became a C-level executive in 2005 at a public company. She provides coaching in Leadership\, Digital Transformation\, AI\, and cloud. She is also an investor for early-stage companies.Dr. Elizabeth Xu has taught at Stanford University for 6 years about leadership\, and currently is a guest lecturer at Stanford University Teaching Digital Transformation at the Department of Engineering Management Science. She is also the advisor for MIT Innovation Initiatives. \nElizabeth earned a M.S. and B.S. degrees from Peking University and a Ph.D. and a Master’s Degrees from University Nevada\, and She is a Harvard certified board member and attended the Stanford Executive Program. \nElizabeth received the TOP 50 Diversity Leader in the United States in 2020\, the Presidential Award in 2019\, the Global Leadership Award in 2018\, the WITI Hall of Fame Award in 2017\, and Women of Influence in Silicon Valley in 2013. She also received 10+ other prestigious awards. She is a trailblazer\, leading a creative and proven path to the top. \nShe is committed to help 100\,000 talent get to the management positions\, 10\,000 get into VP Positions and 1\,000 get into C-suite and Boardroom in the next ten years. \nElizabeth lives by the credo of the four “L”s： \n– Live to my fullest potential. \n– Love the enable others to reach their fullest potential. \n– Learn continuously. \n– Leave a legacy.
URL:https://pkuaanc.org/event/%e8%81%8c%e4%b8%9a%e5%8f%91%e5%b1%95%e8%ae%b2%e5%ba%a7%ef%bc%9aproactive-career-management-in-a-rapidly-changing-world/
LOCATION:CSTU\, 1601 McCarthy Boulevard\, Milpitas\, CA\, 95035\, United States
ATTACH;FMTTYPE=image/png:https://pkuaanc.org/wp-content/uploads/2023/01/640.png
END:VEVENT
END:VCALENDAR