BEGIN:VCALENDAR
VERSION:2.0
PRODID:-//北京大学北加州校友会 - ECPv6.15.20//NONSGML v1.0//EN
CALSCALE:GREGORIAN
METHOD:PUBLISH
X-ORIGINAL-URL:https://pkuaanc.org
X-WR-CALDESC:Events for 北京大学北加州校友会
REFRESH-INTERVAL;VALUE=DURATION:PT1H
X-Robots-Tag:noindex
X-PUBLISHED-TTL:PT1H
BEGIN:VTIMEZONE
TZID:America/Los_Angeles
BEGIN:DAYLIGHT
TZOFFSETFROM:-0800
TZOFFSETTO:-0700
TZNAME:PDT
DTSTART:20220313T100000
END:DAYLIGHT
BEGIN:STANDARD
TZOFFSETFROM:-0700
TZOFFSETTO:-0800
TZNAME:PST
DTSTART:20221106T090000
END:STANDARD
BEGIN:DAYLIGHT
TZOFFSETFROM:-0800
TZOFFSETTO:-0700
TZNAME:PDT
DTSTART:20230312T100000
END:DAYLIGHT
BEGIN:STANDARD
TZOFFSETFROM:-0700
TZOFFSETTO:-0800
TZNAME:PST
DTSTART:20231105T090000
END:STANDARD
BEGIN:DAYLIGHT
TZOFFSETFROM:-0800
TZOFFSETTO:-0700
TZNAME:PDT
DTSTART:20240310T100000
END:DAYLIGHT
BEGIN:STANDARD
TZOFFSETFROM:-0700
TZOFFSETTO:-0800
TZNAME:PST
DTSTART:20241103T090000
END:STANDARD
END:VTIMEZONE
BEGIN:VEVENT
DTSTART;TZID=America/Los_Angeles:20230122T100000
DTEND;TZID=America/Los_Angeles:20230122T130000
DTSTAMP:20260421T050529
CREATED:20230115T050108Z
LAST-MODIFIED:20230115T050108Z
UID:1172-1674381600-1674392400@pkuaanc.org
SUMMARY:北大北加州校友会 月度爬山活动 01/22/2023
DESCRIPTION:各位校友新年好！ \n去年开始的月度爬山活动得到了校友们踊跃的参与。今年，校友会将继续组织这一活动。我们会在每个月的中下旬相继选取中半岛，东湾或者南湾附近难度适中又景色优美的路线，方便住在不同地方的校友都有机会参与。我们期待和大家在轻松的户外氛围中锻炼身体，交流畅谈。 \n本次计划的路线是位于Palo Alto附近 的Adobe creek trail to shoreline lake park。我们hiking的路线将从Palo Alto靠近旧金山湾的一处湿地附近出发，沿着湾岸南下直到Shoreline Lake Park，然后折返。沿途可以观赏旧金山海湾的美景，也将邂逅湾岸湿地的各种野花和鸟类。全程均为水泥或者鹅卵石铺就，整体较为平缓，整体属于中等难度的徒步道，适合徒步，慢跑和自行车。时长预计约两小时。兔年大年初一，让我们用最健康的方式庆祝新春伊始！ \n\n\n\n\n\n\n\n\n\n\n\n活动时间： \n2023年1月22日(周日) 10:00 a.m. (可能根据天气进行调整\, 如有调整\,校友会届时将启事告知). \n活动地点: \nGoogle Map可搜索2375 Embarcadero Way\, Palo Alto\, CA 94303 \n集合点坐标：37.4510365\,-122.1061529 \n\n\n\n\n\n\nTrailhead 处有免费停车场和洗手间。一般周末人会比较多，建议大家尽量提早一点到达以方便寻找停车位。 \n\n\n\n校友会温馨提示: \n1.可以带上：水\, 零食\, 太阳帽\, 防晒霜\, 运动鞋 \n2.可以带狗，但是需要leash \n公园提示：禁烟禁酒， 禁止采集花草树木及动物\, 禁止喂食野生动物。 \n此次活动全程室外， 相对比较安全。校友会鼓励大家戴口罩并会准备全新的口罩以备不时之需。未完成疫苗接种的同学建议待接种后再参加集体活动。 \n本次爬山活动结束后，校友会不组织午餐活动， 但鼓励校友们组合聚餐，继续交流。 \n\n\n\n如果需要加入月度爬山活动微信群， 请注册下方eventbrite活动， 我们会邮件通知您加入方法。 \n免费注册链接： \nhttps://www.eventbrite.com/e/01152023-tickets-510312216577 \n(建议您注册以便我们掌握人数\, 并及时发启事通知) \n可复制粘贴以上链接至浏览器打开，或直接点击文末read more前往注册网站
URL:https://pkuaanc.org/event/%e5%8c%97%e5%a4%a7%e5%8c%97%e5%8a%a0%e5%b7%9e%e6%a0%a1%e5%8f%8b%e4%bc%9a-%e6%9c%88%e5%ba%a6%e7%88%ac%e5%b1%b1%e6%b4%bb%e5%8a%a8-01-22-2023/
LOCATION:2375 Embarcadero Way\, Palo Alto\, CA 94303\, 2375 Embarcadero Way\, Palo Alto\, CA\, 94303\, United States
ATTACH;FMTTYPE=image/jpeg:https://pkuaanc.org/wp-content/uploads/2023/01/ey.jpeg
END:VEVENT
END:VCALENDAR