BEGIN:VCALENDAR
VERSION:2.0
PRODID:-//北京大学北加州校友会 - ECPv6.15.20//NONSGML v1.0//EN
CALSCALE:GREGORIAN
METHOD:PUBLISH
X-WR-CALNAME:北京大学北加州校友会
X-ORIGINAL-URL:https://pkuaanc.org
X-WR-CALDESC:Events for 北京大学北加州校友会
REFRESH-INTERVAL;VALUE=DURATION:PT1H
X-Robots-Tag:noindex
X-PUBLISHED-TTL:PT1H
BEGIN:VTIMEZONE
TZID:America/Los_Angeles
BEGIN:DAYLIGHT
TZOFFSETFROM:-0800
TZOFFSETTO:-0700
TZNAME:PDT
DTSTART:20210314T100000
END:DAYLIGHT
BEGIN:STANDARD
TZOFFSETFROM:-0700
TZOFFSETTO:-0800
TZNAME:PST
DTSTART:20211107T090000
END:STANDARD
BEGIN:DAYLIGHT
TZOFFSETFROM:-0800
TZOFFSETTO:-0700
TZNAME:PDT
DTSTART:20220313T100000
END:DAYLIGHT
BEGIN:STANDARD
TZOFFSETFROM:-0700
TZOFFSETTO:-0800
TZNAME:PST
DTSTART:20221106T090000
END:STANDARD
BEGIN:DAYLIGHT
TZOFFSETFROM:-0800
TZOFFSETTO:-0700
TZNAME:PDT
DTSTART:20230312T100000
END:DAYLIGHT
BEGIN:STANDARD
TZOFFSETFROM:-0700
TZOFFSETTO:-0800
TZNAME:PST
DTSTART:20231105T090000
END:STANDARD
END:VTIMEZONE
BEGIN:VEVENT
DTSTART;VALUE=DATE:20220201
DTEND;VALUE=DATE:20220202
DTSTAMP:20260422T092157
CREATED:20220130T203440Z
LAST-MODIFIED:20220130T203440Z
UID:570-1643673600-1643759999@pkuaanc.org
SUMMARY:北大北加州校友会祝校友们新春快乐!
DESCRIPTION:HAPPY CHINESE NEW YEAR！ \n\n\n\n\n\n爆竹声中一岁除\, 春风送暖入屠苏。2022年新春在即，北京大学北加州校友会祝广大北加州和各地校友和朋友们一帆风顺，二龙戏珠，三羊开泰，四季平安，五福临门，六六大顺，七星高照，八方来财，九九归一，十全十美\, 虎虎生威！虎年校友会将举办更多活动，敬请期待！ \n\n\n\n\n\n\n\n\n\n\n\n\n\n\n\n\n\n\n\n\n\n\n\n燕园已雪\, 大家想念母校了吗? \n\n\n\n\n \n用母校各宿舍楼的新年黑板报向大家致以更多的祝福吧\, 您住过哪一栋呢? (图片转载自北京大学微博)
URL:https://pkuaanc.org/event/%e5%8c%97%e5%a4%a7%e5%8c%97%e5%8a%a0%e5%b7%9e%e6%a0%a1%e5%8f%8b%e4%bc%9a%e7%a5%9d%e6%a0%a1%e5%8f%8b%e4%bb%ac%e6%96%b0%e6%98%a5%e5%bf%ab%e4%b9%90/
ATTACH;FMTTYPE=image/jpeg:https://pkuaanc.org/wp-content/uploads/2022/01/007sZZgpgy1gyucjcddrsj30u00f9n2l.jpg
END:VEVENT
END:VCALENDAR